BEGIN:VCALENDAR
VERSION:2.0
PRODID:-//CIRQAURA - ECPv6.15.17.1//NONSGML v1.0//EN
CALSCALE:GREGORIAN
METHOD:PUBLISH
X-ORIGINAL-URL:https://cirqaura.com
X-WR-CALDESC:Évènements pour CIRQAURA
REFRESH-INTERVAL;VALUE=DURATION:PT1H
X-Robots-Tag:noindex
X-PUBLISHED-TTL:PT1H
BEGIN:VTIMEZONE
TZID:Europe/Paris
BEGIN:DAYLIGHT
TZOFFSETFROM:+0100
TZOFFSETTO:+0200
TZNAME:CEST
DTSTART:20250330T010000
END:DAYLIGHT
BEGIN:STANDARD
TZOFFSETFROM:+0200
TZOFFSETTO:+0100
TZNAME:CET
DTSTART:20251026T010000
END:STANDARD
BEGIN:DAYLIGHT
TZOFFSETFROM:+0100
TZOFFSETTO:+0200
TZNAME:CEST
DTSTART:20260329T010000
END:DAYLIGHT
BEGIN:STANDARD
TZOFFSETFROM:+0200
TZOFFSETTO:+0100
TZNAME:CET
DTSTART:20261025T010000
END:STANDARD
BEGIN:DAYLIGHT
TZOFFSETFROM:+0100
TZOFFSETTO:+0200
TZNAME:CEST
DTSTART:20270328T010000
END:DAYLIGHT
BEGIN:STANDARD
TZOFFSETFROM:+0200
TZOFFSETTO:+0100
TZNAME:CET
DTSTART:20271031T010000
END:STANDARD
END:VTIMEZONE
BEGIN:VEVENT
DTSTART;TZID=Europe/Paris:20260509T143000
DTEND;TZID=Europe/Paris:20260509T152000
DTSTAMP:20260423T112050
CREATED:20260320T161831Z
LAST-MODIFIED:20260327T133405Z
UID:10000175-1778337000-1778340000@cirqaura.com
SUMMARY:Les fêlures de Monsieur T.
[vc_column column_padding= »no-extra-padding » column_padding_tablet= »inherit » column_padding_phone= »inherit » column_padding_position= »all » flex_gap_desktop= »10px » column_element_direction_desktop= »default » column_element_spacing= »default » desktop_text_alignment= »default » tablet_text_alignment= »default » phone_text_alignment= »default »...

👉 https://cirqaura.com/event/les-felures-de-monsieur-t/2026-05-09/
URL:https://cirqaura.com/event/les-felures-de-monsieur-t/2026-05-09/
LOCATION:La Gare à Coulisses\, Écosite\, 256 avenue de Judée\, Quai de Brunelle\, Eurre\, 26400\, France
CATEGORIES:Spectacles cirque membres
ORGANIZER;CN="La Gare %C3%A0 Coulisses":MAILTO:j.peron@transe-express.com
END:VEVENT
BEGIN:VEVENT
DTSTART;TZID=Europe/Paris:20260509T160000
DTEND;TZID=Europe/Paris:20260509T165000
DTSTAMP:20260423T112050
CREATED:20260320T162905Z
LAST-MODIFIED:20260327T133202Z
UID:10000183-1778342400-1778345400@cirqaura.com
SUMMARY:Frigo [opus 2]
[vc_column column_padding= »no-extra-padding » column_padding_tablet= »inherit » column_padding_phone= »inherit » column_padding_position= »all » flex_gap_desktop= »10px » column_element_direction_desktop= »default » column_element_spacing= »default » desktop_text_alignment= »default » tablet_text_alignment= »default » phone_text_alignment= »default »...

👉 https://cirqaura.com/event/frigo-opus-2/2026-05-09/
URL:https://cirqaura.com/event/frigo-opus-2/2026-05-09/
LOCATION:La Gare à Coulisses\, Écosite\, 256 avenue de Judée\, Quai de Brunelle\, Eurre\, 26400\, France
CATEGORIES:Spectacles cirque membres
ORGANIZER;CN="La Gare %C3%A0 Coulisses":MAILTO:j.peron@transe-express.com
END:VEVENT
BEGIN:VEVENT
DTSTART;TZID=Europe/Paris:20260509T173000
DTEND;TZID=Europe/Paris:20260509T180000
DTSTAMP:20260423T112050
CREATED:20260320T162447Z
LAST-MODIFIED:20260327T133052Z
UID:10000179-1778347800-1778349600@cirqaura.com
SUMMARY:Monsieur O
[vc_column column_padding= »no-extra-padding » column_padding_tablet= »inherit » column_padding_phone= »inherit » column_padding_position= »all » flex_gap_desktop= »10px » column_element_direction_desktop= »default » column_element_spacing= »default » desktop_text_alignment= »default » tablet_text_alignment= »default » phone_text_alignment= »default »...

👉 https://cirqaura.com/event/monsieur-o/2026-05-09/
URL:https://cirqaura.com/event/monsieur-o/2026-05-09/
LOCATION:La Gare à Coulisses\, Écosite\, 256 avenue de Judée\, Quai de Brunelle\, Eurre\, 26400\, France
CATEGORIES:Spectacles cirque membres
ORGANIZER;CN="La Gare %C3%A0 Coulisses":MAILTO:j.peron@transe-express.com
END:VEVENT
BEGIN:VEVENT
DTSTART;TZID=Europe/Paris:20260509T183000
DTEND;TZID=Europe/Paris:20260509T193000
DTSTAMP:20260423T112050
CREATED:20260324T101152Z
LAST-MODIFIED:20260327T132921Z
UID:10000185-1778351400-1778355000@cirqaura.com
SUMMARY:Amours
[vc_column column_padding= »no-extra-padding » column_padding_tablet= »inherit » column_padding_phone= »inherit » column_padding_position= »all » flex_gap_desktop= »10px » column_element_direction_desktop= »default » column_element_spacing= »default » desktop_text_alignment= »default » tablet_text_alignment= »default » phone_text_alignment= »default »...

👉 https://cirqaura.com/event/amours/
URL:https://cirqaura.com/event/amours/
LOCATION:La Gare à Coulisses\, Écosite\, 256 avenue de Judée\, Quai de Brunelle\, Eurre\, 26400\, France
CATEGORIES:Spectacles cirque membres
ORGANIZER;CN="La Gare %C3%A0 Coulisses":MAILTO:j.peron@transe-express.com
END:VEVENT
BEGIN:VEVENT
DTSTART;TZID=Europe/Paris:20260509T200000
DTEND;TZID=Europe/Paris:20260509T210000
DTSTAMP:20260423T112050
CREATED:20260324T102042Z
LAST-MODIFIED:20260327T132746Z
UID:10000190-1778356800-1778360400@cirqaura.com
SUMMARY:Fidji
[vc_column column_padding= »no-extra-padding » column_padding_tablet= »inherit » column_padding_phone= »inherit » column_padding_position= »all » flex_gap_desktop= »10px » column_element_direction_desktop= »default » column_element_spacing= »default » desktop_text_alignment= »default » tablet_text_alignment= »default » phone_text_alignment= »default »...

👉 https://cirqaura.com/event/fidji/2026-05-09/
URL:https://cirqaura.com/event/fidji/2026-05-09/
LOCATION:La Gare à Coulisses\, Écosite\, 256 avenue de Judée\, Quai de Brunelle\, Eurre\, 26400\, France
CATEGORIES:Spectacles cirque membres
ORGANIZER;CN="La Gare %C3%A0 Coulisses":MAILTO:j.peron@transe-express.com
END:VEVENT
BEGIN:VEVENT
DTSTART;TZID=Europe/Paris:20260509T210000
DTEND;TZID=Europe/Paris:20260509T223000
DTSTAMP:20260423T112050
CREATED:20260324T110000Z
LAST-MODIFIED:20260327T132640Z
UID:10000204-1778360400-1778365800@cirqaura.com
SUMMARY:Le Bal à facettes
[vc_column column_padding= »no-extra-padding » column_padding_tablet= »inherit » column_padding_phone= »inherit » column_padding_position= »all » flex_gap_desktop= »10px » column_element_direction_desktop= »default » column_element_spacing= »default » desktop_text_alignment= »default » tablet_text_alignment= »default » phone_text_alignment= »default »...

👉 https://cirqaura.com/event/le-bal-a-facettes/
URL:https://cirqaura.com/event/le-bal-a-facettes/
LOCATION:La Gare à Coulisses\, Écosite\, 256 avenue de Judée\, Quai de Brunelle\, Eurre\, 26400\, France
CATEGORIES:Spectacles cirque membres
ORGANIZER;CN="La Gare %C3%A0 Coulisses":MAILTO:j.peron@transe-express.com
END:VEVENT
BEGIN:VEVENT
DTSTART;TZID=Europe/Paris:20260509T214500
DTEND;TZID=Europe/Paris:20260509T231500
DTSTAMP:20260423T112050
CREATED:20260324T102527Z
LAST-MODIFIED:20260327T132528Z
UID:10000192-1778363100-1778368500@cirqaura.com
SUMMARY:Kabinet
[vc_column column_padding= »no-extra-padding » column_padding_tablet= »inherit » column_padding_phone= »inherit » column_padding_position= »all » flex_gap_desktop= »10px » column_element_direction_desktop= »default » column_element_spacing= »default » desktop_text_alignment= »default » tablet_text_alignment= »default » phone_text_alignment= »default »...

👉 https://cirqaura.com/event/kabinet/
URL:https://cirqaura.com/event/kabinet/
LOCATION:La Gare à Coulisses\, Écosite\, 256 avenue de Judée\, Quai de Brunelle\, Eurre\, 26400\, France
CATEGORIES:Spectacles cirque membres
ORGANIZER;CN="La Gare %C3%A0 Coulisses":MAILTO:j.peron@transe-express.com
END:VEVENT
BEGIN:VEVENT
DTSTART;TZID=Europe/Paris:20260510T110000
DTEND;TZID=Europe/Paris:20260510T115000
DTSTAMP:20260423T112050
CREATED:20260320T161831Z
LAST-MODIFIED:20260327T133405Z
UID:10000176-1778410800-1778413800@cirqaura.com
SUMMARY:Les fêlures de Monsieur T.
[vc_column column_padding= »no-extra-padding » column_padding_tablet= »inherit » column_padding_phone= »inherit » column_padding_position= »all » flex_gap_desktop= »10px » column_element_direction_desktop= »default » column_element_spacing= »default » desktop_text_alignment= »default » tablet_text_alignment= »default » phone_text_alignment= »default »...

👉 https://cirqaura.com/event/les-felures-de-monsieur-t/2026-05-10/
URL:https://cirqaura.com/event/les-felures-de-monsieur-t/2026-05-10/
LOCATION:La Gare à Coulisses\, Écosite\, 256 avenue de Judée\, Quai de Brunelle\, Eurre\, 26400\, France
CATEGORIES:Spectacles cirque membres
ORGANIZER;CN="La Gare %C3%A0 Coulisses":MAILTO:j.peron@transe-express.com
END:VEVENT
BEGIN:VEVENT
DTSTART;TZID=Europe/Paris:20260510T130000
DTEND;TZID=Europe/Paris:20260510T134000
DTSTAMP:20260423T112050
CREATED:20260324T101618Z
LAST-MODIFIED:20260327T132447Z
UID:10000187-1778418000-1778420400@cirqaura.com
SUMMARY:Miror
[vc_column column_padding= »no-extra-padding » column_padding_tablet= »inherit » column_padding_phone= »inherit » column_padding_position= »all » flex_gap_desktop= »10px » column_element_direction_desktop= »default » column_element_spacing= »default » desktop_text_alignment= »default » tablet_text_alignment= »default » phone_text_alignment= »default »...

👉 https://cirqaura.com/event/miror/
URL:https://cirqaura.com/event/miror/
LOCATION:La Gare à Coulisses\, Écosite\, 256 avenue de Judée\, Quai de Brunelle\, Eurre\, 26400\, France
CATEGORIES:Spectacles cirque membres
ORGANIZER;CN="La Gare %C3%A0 Coulisses":MAILTO:j.peron@transe-express.com
END:VEVENT
BEGIN:VEVENT
DTSTART;TZID=Europe/Paris:20260510T140000
DTEND;TZID=Europe/Paris:20260510T145000
DTSTAMP:20260423T112050
CREATED:20260320T162905Z
LAST-MODIFIED:20260327T133202Z
UID:10000184-1778421600-1778424600@cirqaura.com
SUMMARY:Frigo [opus 2]
[vc_column column_padding= »no-extra-padding » column_padding_tablet= »inherit » column_padding_phone= »inherit » column_padding_position= »all » flex_gap_desktop= »10px » column_element_direction_desktop= »default » column_element_spacing= »default » desktop_text_alignment= »default » tablet_text_alignment= »default » phone_text_alignment= »default »...

👉 https://cirqaura.com/event/frigo-opus-2/2026-05-10/
URL:https://cirqaura.com/event/frigo-opus-2/2026-05-10/
LOCATION:La Gare à Coulisses\, Écosite\, 256 avenue de Judée\, Quai de Brunelle\, Eurre\, 26400\, France
CATEGORIES:Spectacles cirque membres
ORGANIZER;CN="La Gare %C3%A0 Coulisses":MAILTO:j.peron@transe-express.com
END:VEVENT
BEGIN:VEVENT
DTSTART;TZID=Europe/Paris:20260510T150000
DTEND;TZID=Europe/Paris:20260510T153000
DTSTAMP:20260423T112050
CREATED:20260320T162447Z
LAST-MODIFIED:20260327T133052Z
UID:10000180-1778425200-1778427000@cirqaura.com
SUMMARY:Monsieur O
[vc_column column_padding= »no-extra-padding » column_padding_tablet= »inherit » column_padding_phone= »inherit » column_padding_position= »all » flex_gap_desktop= »10px » column_element_direction_desktop= »default » column_element_spacing= »default » desktop_text_alignment= »default » tablet_text_alignment= »default » phone_text_alignment= »default »...

👉 https://cirqaura.com/event/monsieur-o/2026-05-10/
URL:https://cirqaura.com/event/monsieur-o/2026-05-10/
LOCATION:La Gare à Coulisses\, Écosite\, 256 avenue de Judée\, Quai de Brunelle\, Eurre\, 26400\, France
CATEGORIES:Spectacles cirque membres
ORGANIZER;CN="La Gare %C3%A0 Coulisses":MAILTO:j.peron@transe-express.com
END:VEVENT
BEGIN:VEVENT
DTSTART;TZID=Europe/Paris:20260510T160000
DTEND;TZID=Europe/Paris:20260510T164000
DTSTAMP:20260423T112050
CREATED:20260324T102903Z
LAST-MODIFIED:20260327T132343Z
UID:10000194-1778428800-1778431200@cirqaura.com
SUMMARY:League & Legend
[vc_column column_padding= »no-extra-padding » column_padding_tablet= »inherit » column_padding_phone= »inherit » column_padding_position= »all » flex_gap_desktop= »10px » column_element_direction_desktop= »default » column_element_spacing= »default » desktop_text_alignment= »default » tablet_text_alignment= »default » phone_text_alignment= »default »...

👉 https://cirqaura.com/event/league-legend/
URL:https://cirqaura.com/event/league-legend/
LOCATION:La Gare à Coulisses\, Écosite\, 256 avenue de Judée\, Quai de Brunelle\, Eurre\, 26400\, France
CATEGORIES:Spectacles cirque membres
ORGANIZER;CN="La Gare %C3%A0 Coulisses":MAILTO:j.peron@transe-express.com
END:VEVENT
BEGIN:VEVENT
DTSTART;TZID=Europe/Paris:20260510T170000
DTEND;TZID=Europe/Paris:20260510T180000
DTSTAMP:20260423T112050
CREATED:20260324T102042Z
LAST-MODIFIED:20260327T132746Z
UID:10000191-1778432400-1778436000@cirqaura.com
SUMMARY:Fidji
[vc_column column_padding= »no-extra-padding » column_padding_tablet= »inherit » column_padding_phone= »inherit » column_padding_position= »all » flex_gap_desktop= »10px » column_element_direction_desktop= »default » column_element_spacing= »default » desktop_text_alignment= »default » tablet_text_alignment= »default » phone_text_alignment= »default »...

👉 https://cirqaura.com/event/fidji/2026-05-10/
URL:https://cirqaura.com/event/fidji/2026-05-10/
LOCATION:La Gare à Coulisses\, Écosite\, 256 avenue de Judée\, Quai de Brunelle\, Eurre\, 26400\, France
CATEGORIES:Spectacles cirque membres
ORGANIZER;CN="La Gare %C3%A0 Coulisses":MAILTO:j.peron@transe-express.com
END:VEVENT
BEGIN:VEVENT
DTSTART;TZID=Europe/Paris:20260527T183000
DTEND;TZID=Europe/Paris:20260527T195000
DTSTAMP:20260423T112050
CREATED:20260324T103729Z
LAST-MODIFIED:20260326T162303Z
UID:10000197-1779906600-1779911400@cirqaura.com
SUMMARY:Bluff ! Mise en danger de la vie d'autrui
[vc_column column_padding= »no-extra-padding » column_padding_tablet= »inherit » column_padding_phone= »inherit » column_padding_position= »all » flex_gap_desktop= »10px » column_element_direction_desktop= »default » column_element_spacing= »default » desktop_text_alignment= »default » tablet_text_alignment= »default » phone_text_alignment= »default »...

👉 https://cirqaura.com/event/bluff-mise-en-danger-de-la-vie-dautrui/2026-05-27/
URL:https://cirqaura.com/event/bluff-mise-en-danger-de-la-vie-dautrui/2026-05-27/
LOCATION:La Gare à Coulisses\, Écosite\, 256 avenue de Judée\, Quai de Brunelle\, Eurre\, 26400\, France
CATEGORIES:Spectacles cirque membres
ORGANIZER;CN="La Gare %C3%A0 Coulisses":MAILTO:j.peron@transe-express.com
END:VEVENT
BEGIN:VEVENT
DTSTART;TZID=Europe/Paris:20260528T200000
DTEND;TZID=Europe/Paris:20260528T212000
DTSTAMP:20260423T112050
CREATED:20260324T103729Z
LAST-MODIFIED:20260326T162303Z
UID:10000198-1779998400-1780003200@cirqaura.com
SUMMARY:Bluff ! Mise en danger de la vie d'autrui
[vc_column column_padding= »no-extra-padding » column_padding_tablet= »inherit » column_padding_phone= »inherit » column_padding_position= »all » flex_gap_desktop= »10px » column_element_direction_desktop= »default » column_element_spacing= »default » desktop_text_alignment= »default » tablet_text_alignment= »default » phone_text_alignment= »default »...

👉 https://cirqaura.com/event/bluff-mise-en-danger-de-la-vie-dautrui/2026-05-28/
URL:https://cirqaura.com/event/bluff-mise-en-danger-de-la-vie-dautrui/2026-05-28/
LOCATION:La Gare à Coulisses\, Écosite\, 256 avenue de Judée\, Quai de Brunelle\, Eurre\, 26400\, France
CATEGORIES:Spectacles cirque membres
ORGANIZER;CN="La Gare %C3%A0 Coulisses":MAILTO:j.peron@transe-express.com
END:VEVENT
BEGIN:VEVENT
DTSTART;TZID=Europe/Paris:20260529T200000
DTEND;TZID=Europe/Paris:20260529T212000
DTSTAMP:20260423T112050
CREATED:20260324T103729Z
LAST-MODIFIED:20260326T162303Z
UID:10000199-1780084800-1780089600@cirqaura.com
SUMMARY:Bluff ! Mise en danger de la vie d'autrui
[vc_column column_padding= »no-extra-padding » column_padding_tablet= »inherit » column_padding_phone= »inherit » column_padding_position= »all » flex_gap_desktop= »10px » column_element_direction_desktop= »default » column_element_spacing= »default » desktop_text_alignment= »default » tablet_text_alignment= »default » phone_text_alignment= »default »...

👉 https://cirqaura.com/event/bluff-mise-en-danger-de-la-vie-dautrui/2026-05-29/
URL:https://cirqaura.com/event/bluff-mise-en-danger-de-la-vie-dautrui/2026-05-29/
LOCATION:La Gare à Coulisses\, Écosite\, 256 avenue de Judée\, Quai de Brunelle\, Eurre\, 26400\, France
CATEGORIES:Spectacles cirque membres
ORGANIZER;CN="La Gare %C3%A0 Coulisses":MAILTO:j.peron@transe-express.com
END:VEVENT
BEGIN:VEVENT
DTSTART;TZID=Europe/Paris:20260530T200000
DTEND;TZID=Europe/Paris:20260530T212000
DTSTAMP:20260423T112050
CREATED:20260324T103729Z
LAST-MODIFIED:20260326T162303Z
UID:10000200-1780171200-1780176000@cirqaura.com
SUMMARY:Bluff ! Mise en danger de la vie d'autrui
[vc_column column_padding= »no-extra-padding » column_padding_tablet= »inherit » column_padding_phone= »inherit » column_padding_position= »all » flex_gap_desktop= »10px » column_element_direction_desktop= »default » column_element_spacing= »default » desktop_text_alignment= »default » tablet_text_alignment= »default » phone_text_alignment= »default »...

👉 https://cirqaura.com/event/bluff-mise-en-danger-de-la-vie-dautrui/2026-05-30/
URL:https://cirqaura.com/event/bluff-mise-en-danger-de-la-vie-dautrui/2026-05-30/
LOCATION:La Gare à Coulisses\, Écosite\, 256 avenue de Judée\, Quai de Brunelle\, Eurre\, 26400\, France
CATEGORIES:Spectacles cirque membres
ORGANIZER;CN="La Gare %C3%A0 Coulisses":MAILTO:j.peron@transe-express.com
END:VEVENT
END:VCALENDAR