BEGIN:VCALENDAR
VERSION:2.0
PRODID:-//CIRQAURA - ECPv6.15.17.1//NONSGML v1.0//EN
CALSCALE:GREGORIAN
METHOD:PUBLISH
X-ORIGINAL-URL:https://cirqaura.com
X-WR-CALDESC:Évènements pour CIRQAURA
REFRESH-INTERVAL;VALUE=DURATION:PT1H
X-Robots-Tag:noindex
X-PUBLISHED-TTL:PT1H
BEGIN:VTIMEZONE
TZID:Europe/Paris
BEGIN:DAYLIGHT
TZOFFSETFROM:+0100
TZOFFSETTO:+0200
TZNAME:CEST
DTSTART:20250330T010000
END:DAYLIGHT
BEGIN:STANDARD
TZOFFSETFROM:+0200
TZOFFSETTO:+0100
TZNAME:CET
DTSTART:20251026T010000
END:STANDARD
BEGIN:DAYLIGHT
TZOFFSETFROM:+0100
TZOFFSETTO:+0200
TZNAME:CEST
DTSTART:20260329T010000
END:DAYLIGHT
BEGIN:STANDARD
TZOFFSETFROM:+0200
TZOFFSETTO:+0100
TZNAME:CET
DTSTART:20261025T010000
END:STANDARD
BEGIN:DAYLIGHT
TZOFFSETFROM:+0100
TZOFFSETTO:+0200
TZNAME:CEST
DTSTART:20270328T010000
END:DAYLIGHT
BEGIN:STANDARD
TZOFFSETFROM:+0200
TZOFFSETTO:+0100
TZNAME:CET
DTSTART:20271031T010000
END:STANDARD
END:VTIMEZONE
BEGIN:VEVENT
DTSTART;TZID=Europe/Paris:20260629T210000
DTEND;TZID=Europe/Paris:20260629T221000
DTSTAMP:20260423T123833
CREATED:20260320T113359Z
LAST-MODIFIED:20260327T131159Z
UID:10000206-1782766800-1782771000@cirqaura.com
SUMMARY:À ciel ouvert
[vc_column column_padding= »no-extra-padding » column_padding_tablet= »inherit » column_padding_phone= »inherit » column_padding_position= »all » flex_gap_desktop= »10px » column_element_direction_desktop= »default » column_element_spacing= »default » desktop_text_alignment= »default » tablet_text_alignment= »default » phone_text_alignment= »default »...

👉 https://cirqaura.com/event/a-ciel-ouvert/2026-06-29/
URL:https://cirqaura.com/event/a-ciel-ouvert/2026-06-29/
LOCATION:Parc François Mitterrand\, Plaine Achille\, Saint-Étienne\, 42000\, France
CATEGORIES:Spectacles cirque membres
ORGANIZER;CN="Festival Les 7 Collines":MAILTO:septcollines@hotmail.com
END:VEVENT
BEGIN:VEVENT
DTSTART;TZID=Europe/Paris:20260630T210000
DTEND;TZID=Europe/Paris:20260630T221000
DTSTAMP:20260423T123833
CREATED:20260320T113359Z
LAST-MODIFIED:20260327T131159Z
UID:10000111-1782853200-1782857400@cirqaura.com
SUMMARY:À ciel ouvert
[vc_column column_padding= »no-extra-padding » column_padding_tablet= »inherit » column_padding_phone= »inherit » column_padding_position= »all » flex_gap_desktop= »10px » column_element_direction_desktop= »default » column_element_spacing= »default » desktop_text_alignment= »default » tablet_text_alignment= »default » phone_text_alignment= »default »...

👉 https://cirqaura.com/event/a-ciel-ouvert/2026-06-30/
URL:https://cirqaura.com/event/a-ciel-ouvert/2026-06-30/
LOCATION:Parc François Mitterrand\, Plaine Achille\, Saint-Étienne\, 42000\, France
CATEGORIES:Spectacles cirque membres
ORGANIZER;CN="Festival Les 7 Collines":MAILTO:septcollines@hotmail.com
END:VEVENT
BEGIN:VEVENT
DTSTART;TZID=Europe/Paris:20260702T210000
DTEND;TZID=Europe/Paris:20260702T221000
DTSTAMP:20260423T123833
CREATED:20260320T113359Z
LAST-MODIFIED:20260327T131159Z
UID:10000112-1783026000-1783030200@cirqaura.com
SUMMARY:À ciel ouvert
[vc_column column_padding= »no-extra-padding » column_padding_tablet= »inherit » column_padding_phone= »inherit » column_padding_position= »all » flex_gap_desktop= »10px » column_element_direction_desktop= »default » column_element_spacing= »default » desktop_text_alignment= »default » tablet_text_alignment= »default » phone_text_alignment= »default »...

👉 https://cirqaura.com/event/a-ciel-ouvert/2026-07-02/
URL:https://cirqaura.com/event/a-ciel-ouvert/2026-07-02/
LOCATION:Parc François Mitterrand\, Plaine Achille\, Saint-Étienne\, 42000\, France
CATEGORIES:Spectacles cirque membres
ORGANIZER;CN="Festival Les 7 Collines":MAILTO:septcollines@hotmail.com
END:VEVENT
BEGIN:VEVENT
DTSTART;TZID=Europe/Paris:20260704T210000
DTEND;TZID=Europe/Paris:20260704T221000
DTSTAMP:20260423T123833
CREATED:20260320T113359Z
LAST-MODIFIED:20260327T131159Z
UID:10000113-1783198800-1783203000@cirqaura.com
SUMMARY:À ciel ouvert
[vc_column column_padding= »no-extra-padding » column_padding_tablet= »inherit » column_padding_phone= »inherit » column_padding_position= »all » flex_gap_desktop= »10px » column_element_direction_desktop= »default » column_element_spacing= »default » desktop_text_alignment= »default » tablet_text_alignment= »default » phone_text_alignment= »default »...

👉 https://cirqaura.com/event/a-ciel-ouvert/2026-07-04/
URL:https://cirqaura.com/event/a-ciel-ouvert/2026-07-04/
LOCATION:Parc François Mitterrand\, Plaine Achille\, Saint-Étienne\, 42000\, France
CATEGORIES:Spectacles cirque membres
ORGANIZER;CN="Festival Les 7 Collines":MAILTO:septcollines@hotmail.com
END:VEVENT
BEGIN:VEVENT
DTSTART;TZID=Europe/Paris:20260705T210000
DTEND;TZID=Europe/Paris:20260705T221000
DTSTAMP:20260423T123833
CREATED:20260320T113359Z
LAST-MODIFIED:20260327T131159Z
UID:10000114-1783285200-1783289400@cirqaura.com
SUMMARY:À ciel ouvert
[vc_column column_padding= »no-extra-padding » column_padding_tablet= »inherit » column_padding_phone= »inherit » column_padding_position= »all » flex_gap_desktop= »10px » column_element_direction_desktop= »default » column_element_spacing= »default » desktop_text_alignment= »default » tablet_text_alignment= »default » phone_text_alignment= »default »...

👉 https://cirqaura.com/event/a-ciel-ouvert/2026-07-05/
URL:https://cirqaura.com/event/a-ciel-ouvert/2026-07-05/
LOCATION:Parc François Mitterrand\, Plaine Achille\, Saint-Étienne\, 42000\, France
CATEGORIES:Spectacles cirque membres
ORGANIZER;CN="Festival Les 7 Collines":MAILTO:septcollines@hotmail.com
END:VEVENT
BEGIN:VEVENT
DTSTART;TZID=Europe/Paris:20260706T210000
DTEND;TZID=Europe/Paris:20260706T221000
DTSTAMP:20260423T123833
CREATED:20260320T113359Z
LAST-MODIFIED:20260327T131159Z
UID:10000115-1783371600-1783375800@cirqaura.com
SUMMARY:À ciel ouvert
[vc_column column_padding= »no-extra-padding » column_padding_tablet= »inherit » column_padding_phone= »inherit » column_padding_position= »all » flex_gap_desktop= »10px » column_element_direction_desktop= »default » column_element_spacing= »default » desktop_text_alignment= »default » tablet_text_alignment= »default » phone_text_alignment= »default »...

👉 https://cirqaura.com/event/a-ciel-ouvert/2026-07-06/
URL:https://cirqaura.com/event/a-ciel-ouvert/2026-07-06/
LOCATION:Parc François Mitterrand\, Plaine Achille\, Saint-Étienne\, 42000\, France
CATEGORIES:Spectacles cirque membres
ORGANIZER;CN="Festival Les 7 Collines":MAILTO:septcollines@hotmail.com
END:VEVENT
BEGIN:VEVENT
DTSTART;TZID=Europe/Paris:20260707T140000
DTEND;TZID=Europe/Paris:20260707T150000
DTSTAMP:20260423T123833
CREATED:20260320T115739Z
LAST-MODIFIED:20260327T130820Z
UID:10000121-1783432800-1783436400@cirqaura.com
SUMMARY:Sanké
[vc_column column_padding= »no-extra-padding » column_padding_tablet= »inherit » column_padding_phone= »inherit » column_padding_position= »all » flex_gap_desktop= »10px » column_element_direction_desktop= »default » column_element_spacing= »default » desktop_text_alignment= »default » tablet_text_alignment= »default » phone_text_alignment= »default »...

👉 https://cirqaura.com/event/sanke-3/
URL:https://cirqaura.com/event/sanke-3/
LOCATION:Parc François Mitterrand\, Plaine Achille\, Saint-Étienne\, 42000\, France
CATEGORIES:Spectacles cirque membres
ORGANIZER;CN="Festival Les 7 Collines":MAILTO:septcollines@hotmail.com
END:VEVENT
END:VCALENDAR