BEGIN:VCALENDAR
VERSION:2.0
PRODID:-//CIRQAURA - ECPv6.15.17.1//NONSGML v1.0//EN
CALSCALE:GREGORIAN
METHOD:PUBLISH
X-ORIGINAL-URL:https://cirqaura.com
X-WR-CALDESC:Évènements pour CIRQAURA
REFRESH-INTERVAL;VALUE=DURATION:PT1H
X-Robots-Tag:noindex
X-PUBLISHED-TTL:PT1H
BEGIN:VTIMEZONE
TZID:Europe/Paris
BEGIN:DAYLIGHT
TZOFFSETFROM:+0100
TZOFFSETTO:+0200
TZNAME:CEST
DTSTART:20250330T010000
END:DAYLIGHT
BEGIN:STANDARD
TZOFFSETFROM:+0200
TZOFFSETTO:+0100
TZNAME:CET
DTSTART:20251026T010000
END:STANDARD
BEGIN:DAYLIGHT
TZOFFSETFROM:+0100
TZOFFSETTO:+0200
TZNAME:CEST
DTSTART:20260329T010000
END:DAYLIGHT
BEGIN:STANDARD
TZOFFSETFROM:+0200
TZOFFSETTO:+0100
TZNAME:CET
DTSTART:20261025T010000
END:STANDARD
BEGIN:DAYLIGHT
TZOFFSETFROM:+0100
TZOFFSETTO:+0200
TZNAME:CEST
DTSTART:20270328T010000
END:DAYLIGHT
BEGIN:STANDARD
TZOFFSETFROM:+0200
TZOFFSETTO:+0100
TZNAME:CET
DTSTART:20271031T010000
END:STANDARD
END:VTIMEZONE
BEGIN:VEVENT
DTSTART;TZID=Europe/Paris:20260520T200000
DTEND;TZID=Europe/Paris:20260520T211500
DTSTAMP:20260423T141456
CREATED:20260320T101353Z
LAST-MODIFIED:20260326T163659Z
UID:10000066-1779307200-1779311700@cirqaura.com
SUMMARY:Immaqaa\, ici peut-être
Il s’agit de localiser notre Nord magnétique, c’est à dire de partir vers nos propres confins l’endroit qui nous aimante. Un Nord personnel, fictionnel, absolu, qui oriente notre recherche commune, pourvoyeur de lumière et parfois déboussolant. Immaqaa, peut-être, en inuktitut.

👉 https://cirqaura.com/event/immaqaa-ici-peut-etre/2026-05-20/
URL:https://cirqaura.com/event/immaqaa-ici-peut-etre/2026-05-20/
LOCATION:Les Quinconces\, 3 avenue Claude Expilly\, Vals-les-Bains\, 07600\, France
CATEGORIES:Spectacles cirque membres
ORGANIZER;CN="utoPistes - Cit%C3%A9 internationale des Arts du Cirque":MAILTO:production@mpta.fr
END:VEVENT
BEGIN:VEVENT
DTSTART;TZID=Europe/Paris:20260521T200000
DTEND;TZID=Europe/Paris:20260521T211500
DTSTAMP:20260423T141456
CREATED:20260320T101353Z
LAST-MODIFIED:20260326T163659Z
UID:10000067-1779393600-1779398100@cirqaura.com
SUMMARY:Immaqaa\, ici peut-être
Il s’agit de localiser notre Nord magnétique, c’est à dire de partir vers nos propres confins l’endroit qui nous aimante. Un Nord personnel, fictionnel, absolu, qui oriente notre recherche commune, pourvoyeur de lumière et parfois déboussolant. Immaqaa, peut-être, en inuktitut.

👉 https://cirqaura.com/event/immaqaa-ici-peut-etre/2026-05-21/
URL:https://cirqaura.com/event/immaqaa-ici-peut-etre/2026-05-21/
LOCATION:Les Quinconces\, 3 avenue Claude Expilly\, Vals-les-Bains\, 07600\, France
CATEGORIES:Spectacles cirque membres
ORGANIZER;CN="utoPistes - Cit%C3%A9 internationale des Arts du Cirque":MAILTO:production@mpta.fr
END:VEVENT
END:VCALENDAR