BEGIN:VCALENDAR
VERSION:2.0
PRODID:-//CIRQAURA - ECPv6.15.17.1//NONSGML v1.0//EN
CALSCALE:GREGORIAN
METHOD:PUBLISH
X-WR-CALNAME:CIRQAURA
X-ORIGINAL-URL:https://cirqaura.com
X-WR-CALDESC:Évènements pour CIRQAURA
REFRESH-INTERVAL;VALUE=DURATION:PT1H
X-Robots-Tag:noindex
X-PUBLISHED-TTL:PT1H
BEGIN:VTIMEZONE
TZID:Europe/Paris
BEGIN:DAYLIGHT
TZOFFSETFROM:+0100
TZOFFSETTO:+0200
TZNAME:CEST
DTSTART:20250330T010000
END:DAYLIGHT
BEGIN:STANDARD
TZOFFSETFROM:+0200
TZOFFSETTO:+0100
TZNAME:CET
DTSTART:20251026T010000
END:STANDARD
BEGIN:DAYLIGHT
TZOFFSETFROM:+0100
TZOFFSETTO:+0200
TZNAME:CEST
DTSTART:20260329T010000
END:DAYLIGHT
BEGIN:STANDARD
TZOFFSETFROM:+0200
TZOFFSETTO:+0100
TZNAME:CET
DTSTART:20261025T010000
END:STANDARD
BEGIN:DAYLIGHT
TZOFFSETFROM:+0100
TZOFFSETTO:+0200
TZNAME:CEST
DTSTART:20270328T010000
END:DAYLIGHT
BEGIN:STANDARD
TZOFFSETFROM:+0200
TZOFFSETTO:+0100
TZNAME:CET
DTSTART:20271031T010000
END:STANDARD
END:VTIMEZONE
BEGIN:VEVENT
DTSTART;TZID=Europe/Paris:20260530T103000
DTEND;TZID=Europe/Paris:20260530T111500
DTSTAMP:20260421T144647
CREATED:20260316T155649Z
LAST-MODIFIED:20260320T093119Z
UID:10000051-1780137000-1780139700@cirqaura.com
SUMMARY:Mon Royaume pour un cheval
[vc_column column_padding= »no-extra-padding » column_padding_tablet= »inherit » column_padding_phone= »inherit » column_padding_position= »all » flex_gap_desktop= »10px » column_element_direction_desktop= »default » column_element_spacing= »default » desktop_text_alignment= »default » tablet_text_alignment= »default » phone_text_alignment= »default »...

👉 https://cirqaura.com/event/mon-royaume-pour-un-cheval/2026-05-30/1/
URL:https://cirqaura.com/event/mon-royaume-pour-un-cheval/2026-05-30/1/
LOCATION:Le Plongeoir Cité du Cirque\, 6 boulevard Winston Churchill\, Le Mans\, 72100\, France
CATEGORIES:Tournées cies Rencontres pros.
ORGANIZER;CN="Cie La Bossue":MAILTO:compagnielabossue@gmail.com
END:VEVENT
BEGIN:VEVENT
DTSTART;TZID=Europe/Paris:20260530T173000
DTEND;TZID=Europe/Paris:20260530T181500
DTSTAMP:20260421T144647
CREATED:20260316T155649Z
LAST-MODIFIED:20260320T093119Z
UID:10000052-1780162200-1780164900@cirqaura.com
SUMMARY:Mon Royaume pour un cheval
[vc_column column_padding= »no-extra-padding » column_padding_tablet= »inherit » column_padding_phone= »inherit » column_padding_position= »all » flex_gap_desktop= »10px » column_element_direction_desktop= »default » column_element_spacing= »default » desktop_text_alignment= »default » tablet_text_alignment= »default » phone_text_alignment= »default »...

👉 https://cirqaura.com/event/mon-royaume-pour-un-cheval/2026-05-30/2/
URL:https://cirqaura.com/event/mon-royaume-pour-un-cheval/2026-05-30/2/
LOCATION:Le Plongeoir Cité du Cirque\, 6 boulevard Winston Churchill\, Le Mans\, 72100\, France
CATEGORIES:Tournées cies Rencontres pros.
ORGANIZER;CN="Cie La Bossue":MAILTO:compagnielabossue@gmail.com
END:VEVENT
BEGIN:VEVENT
DTSTART;TZID=Europe/Paris:20260530T180000
DTEND;TZID=Europe/Paris:20260530T190000
DTSTAMP:20260421T144647
CREATED:20260316T151924Z
LAST-MODIFIED:20260327T135651Z
UID:10000042-1780164000-1780167600@cirqaura.com
SUMMARY:Anitya - L'Impermanence
[vc_column column_padding= »no-extra-padding » column_padding_tablet= »inherit » column_padding_phone= »inherit » column_padding_position= »all » flex_gap_desktop= »10px » column_element_direction_desktop= »default » column_element_spacing= »default » desktop_text_alignment= »default » tablet_text_alignment= »default » phone_text_alignment= »default »...

👉 https://cirqaura.com/event/anitya-limpermanence-4/2026-05-30/
URL:https://cirqaura.com/event/anitya-limpermanence-4/2026-05-30/
LOCATION:Théâtre de la Cité internationale\, 17 boulevard Jourdan\, Paris\, 75014\, France
CATEGORIES:Tournées cies Rencontres pros.
ORGANIZER;CN="Inbal Ben Ha%C3%AFm":MAILTO:lucie.brosset@les-subs.com
END:VEVENT
BEGIN:VEVENT
DTSTART;TZID=Europe/Paris:20260530T190000
DTEND;TZID=Europe/Paris:20260530T195000
DTSTAMP:20260421T144647
CREATED:20260320T142451Z
LAST-MODIFIED:20260327T132156Z
UID:10000135-1780167600-1780170600@cirqaura.com
SUMMARY:Balade au balcon
[vc_column column_padding= »no-extra-padding » column_padding_tablet= »inherit » column_padding_phone= »inherit » column_padding_position= »all » flex_gap_desktop= »10px » column_element_direction_desktop= »default » column_element_spacing= »default » desktop_text_alignment= »default » tablet_text_alignment= »default » phone_text_alignment= »default »...

👉 https://cirqaura.com/event/balade-au-balcon/
URL:https://cirqaura.com/event/balade-au-balcon/
LOCATION:Le Caméléon\, 52 avenue de Cournon\, Pont-du-Château\, 63430\, France
CATEGORIES:Spectacles cirque membres
ORGANIZER;CN="Le Cam%C3%A9l%C3%A9on":MAILTO:billetterie-cameleon@pontduchateau.fr
END:VEVENT
BEGIN:VEVENT
DTSTART;TZID=Europe/Paris:20260530T200000
DTEND;TZID=Europe/Paris:20260530T212000
DTSTAMP:20260421T144647
CREATED:20260324T103729Z
LAST-MODIFIED:20260326T162303Z
UID:10000200-1780171200-1780176000@cirqaura.com
SUMMARY:Bluff ! Mise en danger de la vie d'autrui
[vc_column column_padding= »no-extra-padding » column_padding_tablet= »inherit » column_padding_phone= »inherit » column_padding_position= »all » flex_gap_desktop= »10px » column_element_direction_desktop= »default » column_element_spacing= »default » desktop_text_alignment= »default » tablet_text_alignment= »default » phone_text_alignment= »default »...

👉 https://cirqaura.com/event/bluff-mise-en-danger-de-la-vie-dautrui/2026-05-30/
URL:https://cirqaura.com/event/bluff-mise-en-danger-de-la-vie-dautrui/2026-05-30/
LOCATION:La Gare à Coulisses\, Écosite\, 256 avenue de Judée\, Quai de Brunelle\, Eurre\, 26400\, France
CATEGORIES:Spectacles cirque membres
ORGANIZER;CN="La Gare %C3%A0 Coulisses":MAILTO:j.peron@transe-express.com
END:VEVENT
BEGIN:VEVENT
DTSTART;TZID=Europe/Paris:20260531T103000
DTEND;TZID=Europe/Paris:20260531T111500
DTSTAMP:20260421T144647
CREATED:20260316T155649Z
LAST-MODIFIED:20260320T093119Z
UID:10000053-1780223400-1780226100@cirqaura.com
SUMMARY:Mon Royaume pour un cheval
[vc_column column_padding= »no-extra-padding » column_padding_tablet= »inherit » column_padding_phone= »inherit » column_padding_position= »all » flex_gap_desktop= »10px » column_element_direction_desktop= »default » column_element_spacing= »default » desktop_text_alignment= »default » tablet_text_alignment= »default » phone_text_alignment= »default »...

👉 https://cirqaura.com/event/mon-royaume-pour-un-cheval/2026-05-31/1/
URL:https://cirqaura.com/event/mon-royaume-pour-un-cheval/2026-05-31/1/
LOCATION:Le Plongeoir Cité du Cirque\, 6 boulevard Winston Churchill\, Le Mans\, 72100\, France
CATEGORIES:Tournées cies Rencontres pros.
ORGANIZER;CN="Cie La Bossue":MAILTO:compagnielabossue@gmail.com
END:VEVENT
BEGIN:VEVENT
DTSTART;TZID=Europe/Paris:20260531T140000
DTEND;TZID=Europe/Paris:20260531T144500
DTSTAMP:20260421T144647
CREATED:20260316T155649Z
LAST-MODIFIED:20260320T093119Z
UID:10000054-1780236000-1780238700@cirqaura.com
SUMMARY:Mon Royaume pour un cheval
[vc_column column_padding= »no-extra-padding » column_padding_tablet= »inherit » column_padding_phone= »inherit » column_padding_position= »all » flex_gap_desktop= »10px » column_element_direction_desktop= »default » column_element_spacing= »default » desktop_text_alignment= »default » tablet_text_alignment= »default » phone_text_alignment= »default »...

👉 https://cirqaura.com/event/mon-royaume-pour-un-cheval/2026-05-31/2/
URL:https://cirqaura.com/event/mon-royaume-pour-un-cheval/2026-05-31/2/
LOCATION:Le Plongeoir Cité du Cirque\, 6 boulevard Winston Churchill\, Le Mans\, 72100\, France
CATEGORIES:Tournées cies Rencontres pros.
ORGANIZER;CN="Cie La Bossue":MAILTO:compagnielabossue@gmail.com
END:VEVENT
BEGIN:VEVENT
DTSTART;TZID=Europe/Paris:20260603T190000
DTEND;TZID=Europe/Paris:20260603T200000
DTSTAMP:20260421T144647
CREATED:20260316T152228Z
LAST-MODIFIED:20260327T135527Z
UID:10000046-1780513200-1780516800@cirqaura.com
SUMMARY:Anitya - L'Impermanence
[vc_column column_padding= »no-extra-padding » column_padding_tablet= »inherit » column_padding_phone= »inherit » column_padding_position= »all » flex_gap_desktop= »10px » column_element_direction_desktop= »default » column_element_spacing= »default » desktop_text_alignment= »default » tablet_text_alignment= »default » phone_text_alignment= »default »...

👉 https://cirqaura.com/event/anitya-limpermanence-5/2026-06-03/
URL:https://cirqaura.com/event/anitya-limpermanence-5/2026-06-03/
LOCATION:Théâtre National de Bretagne\, 1 rue Saint-Hélier\, Rennes\, 35000\, France
CATEGORIES:Tournées cies Rencontres pros.
ORGANIZER;CN="Inbal Ben Ha%C3%AFm":MAILTO:lucie.brosset@les-subs.com
END:VEVENT
BEGIN:VEVENT
DTSTART;TZID=Europe/Paris:20260604T210000
DTEND;TZID=Europe/Paris:20260604T220000
DTSTAMP:20260421T144647
CREATED:20260316T152228Z
LAST-MODIFIED:20260327T135527Z
UID:10000047-1780606800-1780610400@cirqaura.com
SUMMARY:Anitya - L'Impermanence
[vc_column column_padding= »no-extra-padding » column_padding_tablet= »inherit » column_padding_phone= »inherit » column_padding_position= »all » flex_gap_desktop= »10px » column_element_direction_desktop= »default » column_element_spacing= »default » desktop_text_alignment= »default » tablet_text_alignment= »default » phone_text_alignment= »default »...

👉 https://cirqaura.com/event/anitya-limpermanence-5/2026-06-04/
URL:https://cirqaura.com/event/anitya-limpermanence-5/2026-06-04/
LOCATION:Théâtre National de Bretagne\, 1 rue Saint-Hélier\, Rennes\, 35000\, France
CATEGORIES:Tournées cies Rencontres pros.
ORGANIZER;CN="Inbal Ben Ha%C3%AFm":MAILTO:lucie.brosset@les-subs.com
END:VEVENT
BEGIN:VEVENT
DTSTART;TZID=Europe/Paris:20260605T190000
DTEND;TZID=Europe/Paris:20260605T200000
DTSTAMP:20260421T144647
CREATED:20260316T152228Z
LAST-MODIFIED:20260327T135527Z
UID:10000048-1780686000-1780689600@cirqaura.com
SUMMARY:Anitya - L'Impermanence
[vc_column column_padding= »no-extra-padding » column_padding_tablet= »inherit » column_padding_phone= »inherit » column_padding_position= »all » flex_gap_desktop= »10px » column_element_direction_desktop= »default » column_element_spacing= »default » desktop_text_alignment= »default » tablet_text_alignment= »default » phone_text_alignment= »default »...

👉 https://cirqaura.com/event/anitya-limpermanence-5/2026-06-05/
URL:https://cirqaura.com/event/anitya-limpermanence-5/2026-06-05/
LOCATION:Théâtre National de Bretagne\, 1 rue Saint-Hélier\, Rennes\, 35000\, France
CATEGORIES:Tournées cies Rencontres pros.
ORGANIZER;CN="Inbal Ben Ha%C3%AFm":MAILTO:lucie.brosset@les-subs.com
END:VEVENT
BEGIN:VEVENT
DTSTART;TZID=Europe/Paris:20260605T200000
DTEND;TZID=Europe/Paris:20260605T211500
DTSTAMP:20260421T144647
CREATED:20260320T102132Z
LAST-MODIFIED:20260326T162036Z
UID:10000070-1780689600-1780694100@cirqaura.com
SUMMARY:Immaqaa\, ici peut-être
[vc_column column_padding= »no-extra-padding » column_padding_tablet= »inherit » column_padding_phone= »inherit » column_padding_position= »all » flex_gap_desktop= »10px » column_element_direction_desktop= »default » column_element_spacing= »default » desktop_text_alignment= »default » tablet_text_alignment= »default » phone_text_alignment= »default »...

👉 https://cirqaura.com/event/immaqaa-ici-peut-etre-2/2026-06-05/
URL:https://cirqaura.com/event/immaqaa-ici-peut-etre-2/2026-06-05/
LOCATION:Théâtre du Rond Point\, 2 bis avenue Franklin D. Roosevelt\, Paris\, 75008\, France
CATEGORIES:Spectacles cirque membres
ORGANIZER;CN="utoPistes - Cit%C3%A9 internationale des Arts du Cirque":MAILTO:production@mpta.fr
END:VEVENT
BEGIN:VEVENT
DTSTART;TZID=Europe/Paris:20260606T190000
DTEND;TZID=Europe/Paris:20260606T201500
DTSTAMP:20260421T144647
CREATED:20260320T102132Z
LAST-MODIFIED:20260326T162036Z
UID:10000071-1780772400-1780776900@cirqaura.com
SUMMARY:Immaqaa\, ici peut-être
[vc_column column_padding= »no-extra-padding » column_padding_tablet= »inherit » column_padding_phone= »inherit » column_padding_position= »all » flex_gap_desktop= »10px » column_element_direction_desktop= »default » column_element_spacing= »default » desktop_text_alignment= »default » tablet_text_alignment= »default » phone_text_alignment= »default »...

👉 https://cirqaura.com/event/immaqaa-ici-peut-etre-2/2026-06-06/
URL:https://cirqaura.com/event/immaqaa-ici-peut-etre-2/2026-06-06/
LOCATION:Théâtre du Rond Point\, 2 bis avenue Franklin D. Roosevelt\, Paris\, 75008\, France
CATEGORIES:Spectacles cirque membres
ORGANIZER;CN="utoPistes - Cit%C3%A9 internationale des Arts du Cirque":MAILTO:production@mpta.fr
END:VEVENT
BEGIN:VEVENT
DTSTART;TZID=Europe/Paris:20260607T160000
DTEND;TZID=Europe/Paris:20260607T171500
DTSTAMP:20260421T144647
CREATED:20260320T102132Z
LAST-MODIFIED:20260326T162036Z
UID:10000072-1780848000-1780852500@cirqaura.com
SUMMARY:Immaqaa\, ici peut-être
[vc_column column_padding= »no-extra-padding » column_padding_tablet= »inherit » column_padding_phone= »inherit » column_padding_position= »all » flex_gap_desktop= »10px » column_element_direction_desktop= »default » column_element_spacing= »default » desktop_text_alignment= »default » tablet_text_alignment= »default » phone_text_alignment= »default »...

👉 https://cirqaura.com/event/immaqaa-ici-peut-etre-2/2026-06-07/
URL:https://cirqaura.com/event/immaqaa-ici-peut-etre-2/2026-06-07/
LOCATION:Théâtre du Rond Point\, 2 bis avenue Franklin D. Roosevelt\, Paris\, 75008\, France
CATEGORIES:Spectacles cirque membres
ORGANIZER;CN="utoPistes - Cit%C3%A9 internationale des Arts du Cirque":MAILTO:production@mpta.fr
END:VEVENT
BEGIN:VEVENT
DTSTART;TZID=Europe/Paris:20260610T200000
DTEND;TZID=Europe/Paris:20260610T211500
DTSTAMP:20260421T144647
CREATED:20260320T102132Z
LAST-MODIFIED:20260326T162036Z
UID:10000073-1781121600-1781126100@cirqaura.com
SUMMARY:Immaqaa\, ici peut-être
[vc_column column_padding= »no-extra-padding » column_padding_tablet= »inherit » column_padding_phone= »inherit » column_padding_position= »all » flex_gap_desktop= »10px » column_element_direction_desktop= »default » column_element_spacing= »default » desktop_text_alignment= »default » tablet_text_alignment= »default » phone_text_alignment= »default »...

👉 https://cirqaura.com/event/immaqaa-ici-peut-etre-2/2026-06-10/
URL:https://cirqaura.com/event/immaqaa-ici-peut-etre-2/2026-06-10/
LOCATION:Théâtre du Rond Point\, 2 bis avenue Franklin D. Roosevelt\, Paris\, 75008\, France
CATEGORIES:Spectacles cirque membres
ORGANIZER;CN="utoPistes - Cit%C3%A9 internationale des Arts du Cirque":MAILTO:production@mpta.fr
END:VEVENT
BEGIN:VEVENT
DTSTART;TZID=Europe/Paris:20260611T200000
DTEND;TZID=Europe/Paris:20260611T211500
DTSTAMP:20260421T144647
CREATED:20260320T102132Z
LAST-MODIFIED:20260326T162036Z
UID:10000074-1781208000-1781212500@cirqaura.com
SUMMARY:Immaqaa\, ici peut-être
[vc_column column_padding= »no-extra-padding » column_padding_tablet= »inherit » column_padding_phone= »inherit » column_padding_position= »all » flex_gap_desktop= »10px » column_element_direction_desktop= »default » column_element_spacing= »default » desktop_text_alignment= »default » tablet_text_alignment= »default » phone_text_alignment= »default »...

👉 https://cirqaura.com/event/immaqaa-ici-peut-etre-2/2026-06-11/
URL:https://cirqaura.com/event/immaqaa-ici-peut-etre-2/2026-06-11/
LOCATION:Théâtre du Rond Point\, 2 bis avenue Franklin D. Roosevelt\, Paris\, 75008\, France
CATEGORIES:Spectacles cirque membres
ORGANIZER;CN="utoPistes - Cit%C3%A9 internationale des Arts du Cirque":MAILTO:production@mpta.fr
END:VEVENT
BEGIN:VEVENT
DTSTART;TZID=Europe/Paris:20260612T200000
DTEND;TZID=Europe/Paris:20260612T211500
DTSTAMP:20260421T144647
CREATED:20260320T102132Z
LAST-MODIFIED:20260326T162036Z
UID:10000075-1781294400-1781298900@cirqaura.com
SUMMARY:Immaqaa\, ici peut-être
[vc_column column_padding= »no-extra-padding » column_padding_tablet= »inherit » column_padding_phone= »inherit » column_padding_position= »all » flex_gap_desktop= »10px » column_element_direction_desktop= »default » column_element_spacing= »default » desktop_text_alignment= »default » tablet_text_alignment= »default » phone_text_alignment= »default »...

👉 https://cirqaura.com/event/immaqaa-ici-peut-etre-2/2026-06-12/
URL:https://cirqaura.com/event/immaqaa-ici-peut-etre-2/2026-06-12/
LOCATION:Théâtre du Rond Point\, 2 bis avenue Franklin D. Roosevelt\, Paris\, 75008\, France
CATEGORIES:Spectacles cirque membres
ORGANIZER;CN="utoPistes - Cit%C3%A9 internationale des Arts du Cirque":MAILTO:production@mpta.fr
END:VEVENT
BEGIN:VEVENT
DTSTART;TZID=Europe/Paris:20260613T190000
DTEND;TZID=Europe/Paris:20260613T201500
DTSTAMP:20260421T144647
CREATED:20260320T102132Z
LAST-MODIFIED:20260326T162036Z
UID:10000076-1781377200-1781381700@cirqaura.com
SUMMARY:Immaqaa\, ici peut-être
[vc_column column_padding= »no-extra-padding » column_padding_tablet= »inherit » column_padding_phone= »inherit » column_padding_position= »all » flex_gap_desktop= »10px » column_element_direction_desktop= »default » column_element_spacing= »default » desktop_text_alignment= »default » tablet_text_alignment= »default » phone_text_alignment= »default »...

👉 https://cirqaura.com/event/immaqaa-ici-peut-etre-2/2026-06-13/
URL:https://cirqaura.com/event/immaqaa-ici-peut-etre-2/2026-06-13/
LOCATION:Théâtre du Rond Point\, 2 bis avenue Franklin D. Roosevelt\, Paris\, 75008\, France
CATEGORIES:Spectacles cirque membres
ORGANIZER;CN="utoPistes - Cit%C3%A9 internationale des Arts du Cirque":MAILTO:production@mpta.fr
END:VEVENT
BEGIN:VEVENT
DTSTART;TZID=Europe/Paris:20260614T160000
DTEND;TZID=Europe/Paris:20260614T171500
DTSTAMP:20260421T144647
CREATED:20260320T102132Z
LAST-MODIFIED:20260326T162036Z
UID:10000077-1781452800-1781457300@cirqaura.com
SUMMARY:Immaqaa\, ici peut-être
[vc_column column_padding= »no-extra-padding » column_padding_tablet= »inherit » column_padding_phone= »inherit » column_padding_position= »all » flex_gap_desktop= »10px » column_element_direction_desktop= »default » column_element_spacing= »default » desktop_text_alignment= »default » tablet_text_alignment= »default » phone_text_alignment= »default »...

👉 https://cirqaura.com/event/immaqaa-ici-peut-etre-2/2026-06-14/
URL:https://cirqaura.com/event/immaqaa-ici-peut-etre-2/2026-06-14/
LOCATION:Théâtre du Rond Point\, 2 bis avenue Franklin D. Roosevelt\, Paris\, 75008\, France
CATEGORIES:Spectacles cirque membres
ORGANIZER;CN="utoPistes - Cit%C3%A9 internationale des Arts du Cirque":MAILTO:production@mpta.fr
END:VEVENT
BEGIN:VEVENT
DTSTART;TZID=Europe/Paris:20260620T203000
DTEND;TZID=Europe/Paris:20260620T213000
DTSTAMP:20260421T144647
CREATED:20260320T144320Z
LAST-MODIFIED:20260327T132045Z
UID:10000142-1781987400-1781991000@cirqaura.com
SUMMARY:Les travaux en cours
[vc_column column_padding= »no-extra-padding » column_padding_tablet= »inherit » column_padding_phone= »inherit » column_padding_position= »all » flex_gap_desktop= »10px » column_element_direction_desktop= »default » column_element_spacing= »default » desktop_text_alignment= »default » tablet_text_alignment= »default » phone_text_alignment= »default »...

👉 https://cirqaura.com/event/les-travaux-en-cours/
URL:https://cirqaura.com/event/les-travaux-en-cours/
LOCATION:Scène découvertes de l’École de Cirque de Lyon\, 29 avenue de Ménival\, Lyon\, 69005\, France
CATEGORIES:Spectacles cirque membres
ORGANIZER;CN="Sc%C3%A8ne d%C3%A9couvertes de l'%C3%89cole de Cirque de Lyon":MAILTO:contact@ecoledecirquedelyon.com
END:VEVENT
BEGIN:VEVENT
DTSTART;TZID=Europe/Paris:20260622T170000
DTEND;TZID=Europe/Paris:20260622T180000
DTSTAMP:20260421T144647
CREATED:20260320T103441Z
LAST-MODIFIED:20260327T132005Z
UID:10000081-1782147600-1782151200@cirqaura.com
SUMMARY:BANKAL
[vc_column column_padding= »no-extra-padding » column_padding_tablet= »inherit » column_padding_phone= »inherit » column_padding_position= »all » flex_gap_desktop= »10px » column_element_direction_desktop= »default » column_element_spacing= »default » desktop_text_alignment= »default » tablet_text_alignment= »default » phone_text_alignment= »default »...

👉 https://cirqaura.com/event/bankal/
URL:https://cirqaura.com/event/bankal/
LOCATION:Campus Manufacture\, Rue Professeur Benoît Lauras\, Saint-Étienne\, En extérieur\, 42000\, France
CATEGORIES:Spectacles cirque membres
ORGANIZER;CN="Festival Les 7 Collines":MAILTO:septcollines@hotmail.com
END:VEVENT
BEGIN:VEVENT
DTSTART;TZID=Europe/Paris:20260622T183000
DTEND;TZID=Europe/Paris:20260622T191500
DTSTAMP:20260421T144647
CREATED:20260320T104447Z
LAST-MODIFIED:20260327T131927Z
UID:10000089-1782153000-1782155700@cirqaura.com
SUMMARY:KOSTÜM
[vc_column column_padding= »no-extra-padding » column_padding_tablet= »inherit » column_padding_phone= »inherit » column_padding_position= »all » flex_gap_desktop= »10px » column_element_direction_desktop= »default » column_element_spacing= »default » desktop_text_alignment= »default » tablet_text_alignment= »default » phone_text_alignment= »default »...

👉 https://cirqaura.com/event/kostum/
URL:https://cirqaura.com/event/kostum/
LOCATION:Terrenoire\, Place Aristide Briand\, Saint-Étienne\, En extérieur\, 42000\, France
CATEGORIES:Spectacles cirque membres
ORGANIZER;CN="Festival Les 7 Collines":MAILTO:septcollines@hotmail.com
END:VEVENT
BEGIN:VEVENT
DTSTART;TZID=Europe/Paris:20260624T200000
DTEND;TZID=Europe/Paris:20260624T212000
DTSTAMP:20260421T144647
CREATED:20260320T105452Z
LAST-MODIFIED:20260326T161941Z
UID:10000099-1782331200-1782336000@cirqaura.com
SUMMARY:Immaqaa\, ici peut-être
[vc_column column_padding= »no-extra-padding » column_padding_tablet= »inherit » column_padding_phone= »inherit » column_padding_position= »all » flex_gap_desktop= »10px » column_element_direction_desktop= »default » column_element_spacing= »default » desktop_text_alignment= »default » tablet_text_alignment= »default » phone_text_alignment= »default »...

👉 https://cirqaura.com/event/immaqaa-ici-peut-etre-3/2026-06-24/
URL:https://cirqaura.com/event/immaqaa-ici-peut-etre-3/2026-06-24/
LOCATION:La Comédie de Saint-Étienne\, Place Jean Dasté\, Saint-Étienne\, 42000\, France
CATEGORIES:Spectacles cirque membres
ORGANIZER;CN="Festival Les 7 Collines":MAILTO:septcollines@hotmail.com
END:VEVENT
BEGIN:VEVENT
DTSTART;TZID=Europe/Paris:20260625T180000
DTEND;TZID=Europe/Paris:20260625T184500
DTSTAMP:20260421T144647
CREATED:20260320T104750Z
LAST-MODIFIED:20260327T131842Z
UID:10000090-1782410400-1782413100@cirqaura.com
SUMMARY:KOSTÜM
[vc_column column_padding= »no-extra-padding » column_padding_tablet= »inherit » column_padding_phone= »inherit » column_padding_position= »all » flex_gap_desktop= »10px » column_element_direction_desktop= »default » column_element_spacing= »default » desktop_text_alignment= »default » tablet_text_alignment= »default » phone_text_alignment= »default »...

👉 https://cirqaura.com/event/kostum-2/
URL:https://cirqaura.com/event/kostum-2/
LOCATION:Montreynaud\, Allée François Adrien Boieldieu\, Saint-Étienne\, En extérieur\, 42000\, France
CATEGORIES:Spectacles cirque membres
ORGANIZER;CN="Festival Les 7 Collines":MAILTO:septcollines@hotmail.com
END:VEVENT
BEGIN:VEVENT
DTSTART;TZID=Europe/Paris:20260625T200000
DTEND;TZID=Europe/Paris:20260625T204500
DTSTAMP:20260421T144647
CREATED:20260320T110051Z
LAST-MODIFIED:20260327T131738Z
UID:10000102-1782417600-1782420300@cirqaura.com
SUMMARY:Seule la rose le sait
[vc_column column_padding= »no-extra-padding » column_padding_tablet= »inherit » column_padding_phone= »inherit » column_padding_position= »all » flex_gap_desktop= »10px » column_element_direction_desktop= »default » column_element_spacing= »default » desktop_text_alignment= »default » tablet_text_alignment= »default » phone_text_alignment= »default »...

👉 https://cirqaura.com/event/seule-la-rose-le-sait/
URL:https://cirqaura.com/event/seule-la-rose-le-sait/
LOCATION:Château de Goutelas\, 277 route de Goutelas\, Marcoux\, 42130\, France
CATEGORIES:Spectacles cirque membres
ORGANIZER;CN="Festival Les 7 Collines":MAILTO:septcollines@hotmail.com
END:VEVENT
BEGIN:VEVENT
DTSTART;TZID=Europe/Paris:20260625T200000
DTEND;TZID=Europe/Paris:20260625T212000
DTSTAMP:20260421T144647
CREATED:20260320T105452Z
LAST-MODIFIED:20260326T161941Z
UID:10000100-1782417600-1782422400@cirqaura.com
SUMMARY:Immaqaa\, ici peut-être
[vc_column column_padding= »no-extra-padding » column_padding_tablet= »inherit » column_padding_phone= »inherit » column_padding_position= »all » flex_gap_desktop= »10px » column_element_direction_desktop= »default » column_element_spacing= »default » desktop_text_alignment= »default » tablet_text_alignment= »default » phone_text_alignment= »default »...

👉 https://cirqaura.com/event/immaqaa-ici-peut-etre-3/2026-06-25/
URL:https://cirqaura.com/event/immaqaa-ici-peut-etre-3/2026-06-25/
LOCATION:La Comédie de Saint-Étienne\, Place Jean Dasté\, Saint-Étienne\, 42000\, France
CATEGORIES:Spectacles cirque membres
ORGANIZER;CN="Festival Les 7 Collines":MAILTO:septcollines@hotmail.com
END:VEVENT
BEGIN:VEVENT
DTSTART;TZID=Europe/Paris:20260626T200000
DTEND;TZID=Europe/Paris:20260626T212000
DTSTAMP:20260421T144647
CREATED:20260320T105452Z
LAST-MODIFIED:20260326T161941Z
UID:10000101-1782504000-1782508800@cirqaura.com
SUMMARY:Immaqaa\, ici peut-être
[vc_column column_padding= »no-extra-padding » column_padding_tablet= »inherit » column_padding_phone= »inherit » column_padding_position= »all » flex_gap_desktop= »10px » column_element_direction_desktop= »default » column_element_spacing= »default » desktop_text_alignment= »default » tablet_text_alignment= »default » phone_text_alignment= »default »...

👉 https://cirqaura.com/event/immaqaa-ici-peut-etre-3/2026-06-26/
URL:https://cirqaura.com/event/immaqaa-ici-peut-etre-3/2026-06-26/
LOCATION:La Comédie de Saint-Étienne\, Place Jean Dasté\, Saint-Étienne\, 42000\, France
CATEGORIES:Spectacles cirque membres
ORGANIZER;CN="Festival Les 7 Collines":MAILTO:septcollines@hotmail.com
END:VEVENT
BEGIN:VEVENT
DTSTART;TZID=Europe/Paris:20260627T200000
DTEND;TZID=Europe/Paris:20260627T211000
DTSTAMP:20260421T144647
CREATED:20260320T110838Z
LAST-MODIFIED:20260327T131656Z
UID:10000103-1782590400-1782594600@cirqaura.com
SUMMARY:KA-ÏN
[vc_column column_padding= »no-extra-padding » column_padding_tablet= »inherit » column_padding_phone= »inherit » column_padding_position= »all » flex_gap_desktop= »10px » column_element_direction_desktop= »default » column_element_spacing= »default » desktop_text_alignment= »default » tablet_text_alignment= »default » phone_text_alignment= »default »...

👉 https://cirqaura.com/event/ka-in/
URL:https://cirqaura.com/event/ka-in/
LOCATION:Opéra de Saint-Étienne\, Jardin des Plantes\, Saint-Étienne\, 42000\, France
CATEGORIES:Spectacles cirque membres
ORGANIZER;CN="Festival Les 7 Collines":MAILTO:septcollines@hotmail.com
END:VEVENT
BEGIN:VEVENT
DTSTART;TZID=Europe/Paris:20260628T183000
DTEND;TZID=Europe/Paris:20260628T191000
DTSTAMP:20260421T144647
CREATED:20260320T111435Z
LAST-MODIFIED:20260327T131620Z
UID:10000104-1782671400-1782673800@cirqaura.com
SUMMARY:ONE SHOT
[vc_column column_padding= »no-extra-padding » column_padding_tablet= »inherit » column_padding_phone= »inherit » column_padding_position= »all » flex_gap_desktop= »10px » column_element_direction_desktop= »default » column_element_spacing= »default » desktop_text_alignment= »default » tablet_text_alignment= »default » phone_text_alignment= »default »...

👉 https://cirqaura.com/event/one-shot/
URL:https://cirqaura.com/event/one-shot/
LOCATION:Marcenod\, 84 rue du Stade\, Saint-Étienne\, En extérieur\, 42000\, France
CATEGORIES:Spectacles cirque membres
ORGANIZER;CN="Festival Les 7 Collines":MAILTO:septcollines@hotmail.com
END:VEVENT
BEGIN:VEVENT
DTSTART;TZID=Europe/Paris:20260628T203000
DTEND;TZID=Europe/Paris:20260628T213000
DTSTAMP:20260421T144647
CREATED:20260320T112256Z
LAST-MODIFIED:20260327T131542Z
UID:10000106-1782678600-1782682200@cirqaura.com
SUMMARY:Vent d'Ouest
[vc_column column_padding= »no-extra-padding » column_padding_tablet= »inherit » column_padding_phone= »inherit » column_padding_position= »all » flex_gap_desktop= »10px » column_element_direction_desktop= »default » column_element_spacing= »default » desktop_text_alignment= »default » tablet_text_alignment= »default » phone_text_alignment= »default »...

👉 https://cirqaura.com/event/vent-douest/
URL:https://cirqaura.com/event/vent-douest/
LOCATION:Montbrison\, Parc des Thermes\, Moingt\, En extérieur\, 42600\, France
CATEGORIES:Spectacles cirque membres
ORGANIZER;CN="Festival Les 7 Collines":MAILTO:septcollines@hotmail.com
END:VEVENT
BEGIN:VEVENT
DTSTART;TZID=Europe/Paris:20260629T160000
DTEND;TZID=Europe/Paris:20260629T170000
DTSTAMP:20260421T144647
CREATED:20260320T112754Z
LAST-MODIFIED:20260327T131512Z
UID:10000108-1782748800-1782752400@cirqaura.com
SUMMARY:OBAKÉ
[vc_column column_padding= »no-extra-padding » column_padding_tablet= »inherit » column_padding_phone= »inherit » column_padding_position= »all » flex_gap_desktop= »10px » column_element_direction_desktop= »default » column_element_spacing= »default » desktop_text_alignment= »default » tablet_text_alignment= »default » phone_text_alignment= »default »...

👉 https://cirqaura.com/event/obake/
URL:https://cirqaura.com/event/obake/
LOCATION:Cité du Design\, La Platine\, 3 rue Javelin Pagnon\, Saint-Étienne\, En extérieur\, 42000\, France
CATEGORIES:Spectacles cirque membres
ORGANIZER;CN="Festival Les 7 Collines":MAILTO:septcollines@hotmail.com
END:VEVENT
END:VCALENDAR