BEGIN:VCALENDAR
VERSION:2.0
PRODID:-//CIRQAURA - ECPv6.15.17.1//NONSGML v1.0//EN
CALSCALE:GREGORIAN
METHOD:PUBLISH
X-ORIGINAL-URL:https://cirqaura.com
X-WR-CALDESC:Évènements pour CIRQAURA
REFRESH-INTERVAL;VALUE=DURATION:PT1H
X-Robots-Tag:noindex
X-PUBLISHED-TTL:PT1H
BEGIN:VTIMEZONE
TZID:Europe/Paris
BEGIN:DAYLIGHT
TZOFFSETFROM:+0100
TZOFFSETTO:+0200
TZNAME:CEST
DTSTART:20250330T010000
END:DAYLIGHT
BEGIN:STANDARD
TZOFFSETFROM:+0200
TZOFFSETTO:+0100
TZNAME:CET
DTSTART:20251026T010000
END:STANDARD
BEGIN:DAYLIGHT
TZOFFSETFROM:+0100
TZOFFSETTO:+0200
TZNAME:CEST
DTSTART:20260329T010000
END:DAYLIGHT
BEGIN:STANDARD
TZOFFSETFROM:+0200
TZOFFSETTO:+0100
TZNAME:CET
DTSTART:20261025T010000
END:STANDARD
BEGIN:DAYLIGHT
TZOFFSETFROM:+0100
TZOFFSETTO:+0200
TZNAME:CEST
DTSTART:20270328T010000
END:DAYLIGHT
BEGIN:STANDARD
TZOFFSETFROM:+0200
TZOFFSETTO:+0100
TZNAME:CET
DTSTART:20271031T010000
END:STANDARD
END:VTIMEZONE
BEGIN:VEVENT
DTSTART;TZID=Europe/Paris:20260502T143000
DTEND;TZID=Europe/Paris:20260502T151000
DTSTAMP:20260423T110645
CREATED:20260316T153338Z
LAST-MODIFIED:20260320T135724Z
UID:10000126-1777732200-1777734600@cirqaura.com
SUMMARY:Belle à Mourir
[vc_column column_padding= »no-extra-padding » column_padding_tablet= »inherit » column_padding_phone= »inherit » column_padding_position= »all » flex_gap_desktop= »10px » column_element_direction_desktop= »default » column_element_spacing= »default » desktop_text_alignment= »default » tablet_text_alignment= »default » phone_text_alignment= »default »...

👉 https://cirqaura.com/event/belle-a-mourir/2026-05-02/
URL:https://cirqaura.com/event/belle-a-mourir/2026-05-02/
LOCATION:La Cascade PNC\, 9\, avenue Marc Pradelle\, Bourg-Saint-Andéol\, 07700\, France
CATEGORIES:Tournées cies Rencontres pros.
ORGANIZER;CN="Les Enfants S%C3%A9rieux":MAILTO:production@lesenfantsserieux.com
END:VEVENT
BEGIN:VEVENT
DTSTART;TZID=Europe/Paris:20260503T170000
DTEND;TZID=Europe/Paris:20260503T174000
DTSTAMP:20260423T110645
CREATED:20260316T153338Z
LAST-MODIFIED:20260320T135724Z
UID:10000050-1777827600-1777830000@cirqaura.com
SUMMARY:Belle à Mourir
[vc_column column_padding= »no-extra-padding » column_padding_tablet= »inherit » column_padding_phone= »inherit » column_padding_position= »all » flex_gap_desktop= »10px » column_element_direction_desktop= »default » column_element_spacing= »default » desktop_text_alignment= »default » tablet_text_alignment= »default » phone_text_alignment= »default »...

👉 https://cirqaura.com/event/belle-a-mourir/2026-05-03/
URL:https://cirqaura.com/event/belle-a-mourir/2026-05-03/
LOCATION:La Cascade PNC\, 9\, avenue Marc Pradelle\, Bourg-Saint-Andéol\, 07700\, France
CATEGORIES:Tournées cies Rencontres pros.
ORGANIZER;CN="Les Enfants S%C3%A9rieux":MAILTO:production@lesenfantsserieux.com
END:VEVENT
BEGIN:VEVENT
DTSTART;TZID=Europe/Paris:20260515T200000
DTEND;TZID=Europe/Paris:20260515T210000
DTSTAMP:20260423T110645
CREATED:20260316T150339Z
LAST-MODIFIED:20260327T135754Z
UID:10000037-1778875200-1778878800@cirqaura.com
SUMMARY:Anitya - L'Impermanence
[vc_column column_padding= »no-extra-padding » column_padding_tablet= »inherit » column_padding_phone= »inherit » column_padding_position= »all » flex_gap_desktop= »10px » column_element_direction_desktop= »default » column_element_spacing= »default » desktop_text_alignment= »default » tablet_text_alignment= »default » phone_text_alignment= »default »...

👉 https://cirqaura.com/event/anitya-limpermanence-3/
URL:https://cirqaura.com/event/anitya-limpermanence-3/
LOCATION:Ruhrfestspiele Recklinghausen\, Otto-Burrmeister-Allee 1\, Recklinghausen\, 45657\, France
CATEGORIES:Tournées cies Rencontres pros.
ORGANIZER;CN="Inbal Ben Ha%C3%AFm":MAILTO:lucie.brosset@les-subs.com
END:VEVENT
BEGIN:VEVENT
DTSTART;TZID=Europe/Paris:20260528T200000
DTEND;TZID=Europe/Paris:20260528T210000
DTSTAMP:20260423T110646
CREATED:20260316T151924Z
LAST-MODIFIED:20260327T135651Z
UID:10000040-1779998400-1780002000@cirqaura.com
SUMMARY:Anitya - L'Impermanence
[vc_column column_padding= »no-extra-padding » column_padding_tablet= »inherit » column_padding_phone= »inherit » column_padding_position= »all » flex_gap_desktop= »10px » column_element_direction_desktop= »default » column_element_spacing= »default » desktop_text_alignment= »default » tablet_text_alignment= »default » phone_text_alignment= »default »...

👉 https://cirqaura.com/event/anitya-limpermanence-4/2026-05-28/
URL:https://cirqaura.com/event/anitya-limpermanence-4/2026-05-28/
LOCATION:Théâtre de la Cité internationale\, 17 boulevard Jourdan\, Paris\, 75014\, France
CATEGORIES:Tournées cies Rencontres pros.
ORGANIZER;CN="Inbal Ben Ha%C3%AFm":MAILTO:lucie.brosset@les-subs.com
END:VEVENT
BEGIN:VEVENT
DTSTART;TZID=Europe/Paris:20260529T190000
DTEND;TZID=Europe/Paris:20260529T200000
DTSTAMP:20260423T110646
CREATED:20260316T151924Z
LAST-MODIFIED:20260327T135651Z
UID:10000041-1780081200-1780084800@cirqaura.com
SUMMARY:Anitya - L'Impermanence
[vc_column column_padding= »no-extra-padding » column_padding_tablet= »inherit » column_padding_phone= »inherit » column_padding_position= »all » flex_gap_desktop= »10px » column_element_direction_desktop= »default » column_element_spacing= »default » desktop_text_alignment= »default » tablet_text_alignment= »default » phone_text_alignment= »default »...

👉 https://cirqaura.com/event/anitya-limpermanence-4/2026-05-29/
URL:https://cirqaura.com/event/anitya-limpermanence-4/2026-05-29/
LOCATION:Théâtre de la Cité internationale\, 17 boulevard Jourdan\, Paris\, 75014\, France
CATEGORIES:Tournées cies Rencontres pros.
ORGANIZER;CN="Inbal Ben Ha%C3%AFm":MAILTO:lucie.brosset@les-subs.com
END:VEVENT
BEGIN:VEVENT
DTSTART;TZID=Europe/Paris:20260530T103000
DTEND;TZID=Europe/Paris:20260530T111500
DTSTAMP:20260423T110646
CREATED:20260316T155649Z
LAST-MODIFIED:20260320T093119Z
UID:10000051-1780137000-1780139700@cirqaura.com
SUMMARY:Mon Royaume pour un cheval
[vc_column column_padding= »no-extra-padding » column_padding_tablet= »inherit » column_padding_phone= »inherit » column_padding_position= »all » flex_gap_desktop= »10px » column_element_direction_desktop= »default » column_element_spacing= »default » desktop_text_alignment= »default » tablet_text_alignment= »default » phone_text_alignment= »default »...

👉 https://cirqaura.com/event/mon-royaume-pour-un-cheval/2026-05-30/1/
URL:https://cirqaura.com/event/mon-royaume-pour-un-cheval/2026-05-30/1/
LOCATION:Le Plongeoir Cité du Cirque\, 6 boulevard Winston Churchill\, Le Mans\, 72100\, France
CATEGORIES:Tournées cies Rencontres pros.
ORGANIZER;CN="Cie La Bossue":MAILTO:compagnielabossue@gmail.com
END:VEVENT
BEGIN:VEVENT
DTSTART;TZID=Europe/Paris:20260530T173000
DTEND;TZID=Europe/Paris:20260530T181500
DTSTAMP:20260423T110646
CREATED:20260316T155649Z
LAST-MODIFIED:20260320T093119Z
UID:10000052-1780162200-1780164900@cirqaura.com
SUMMARY:Mon Royaume pour un cheval
[vc_column column_padding= »no-extra-padding » column_padding_tablet= »inherit » column_padding_phone= »inherit » column_padding_position= »all » flex_gap_desktop= »10px » column_element_direction_desktop= »default » column_element_spacing= »default » desktop_text_alignment= »default » tablet_text_alignment= »default » phone_text_alignment= »default »...

👉 https://cirqaura.com/event/mon-royaume-pour-un-cheval/2026-05-30/2/
URL:https://cirqaura.com/event/mon-royaume-pour-un-cheval/2026-05-30/2/
LOCATION:Le Plongeoir Cité du Cirque\, 6 boulevard Winston Churchill\, Le Mans\, 72100\, France
CATEGORIES:Tournées cies Rencontres pros.
ORGANIZER;CN="Cie La Bossue":MAILTO:compagnielabossue@gmail.com
END:VEVENT
BEGIN:VEVENT
DTSTART;TZID=Europe/Paris:20260530T180000
DTEND;TZID=Europe/Paris:20260530T190000
DTSTAMP:20260423T110646
CREATED:20260316T151924Z
LAST-MODIFIED:20260327T135651Z
UID:10000042-1780164000-1780167600@cirqaura.com
SUMMARY:Anitya - L'Impermanence
[vc_column column_padding= »no-extra-padding » column_padding_tablet= »inherit » column_padding_phone= »inherit » column_padding_position= »all » flex_gap_desktop= »10px » column_element_direction_desktop= »default » column_element_spacing= »default » desktop_text_alignment= »default » tablet_text_alignment= »default » phone_text_alignment= »default »...

👉 https://cirqaura.com/event/anitya-limpermanence-4/2026-05-30/
URL:https://cirqaura.com/event/anitya-limpermanence-4/2026-05-30/
LOCATION:Théâtre de la Cité internationale\, 17 boulevard Jourdan\, Paris\, 75014\, France
CATEGORIES:Tournées cies Rencontres pros.
ORGANIZER;CN="Inbal Ben Ha%C3%AFm":MAILTO:lucie.brosset@les-subs.com
END:VEVENT
BEGIN:VEVENT
DTSTART;TZID=Europe/Paris:20260531T103000
DTEND;TZID=Europe/Paris:20260531T111500
DTSTAMP:20260423T110646
CREATED:20260316T155649Z
LAST-MODIFIED:20260320T093119Z
UID:10000053-1780223400-1780226100@cirqaura.com
SUMMARY:Mon Royaume pour un cheval
[vc_column column_padding= »no-extra-padding » column_padding_tablet= »inherit » column_padding_phone= »inherit » column_padding_position= »all » flex_gap_desktop= »10px » column_element_direction_desktop= »default » column_element_spacing= »default » desktop_text_alignment= »default » tablet_text_alignment= »default » phone_text_alignment= »default »...

👉 https://cirqaura.com/event/mon-royaume-pour-un-cheval/2026-05-31/1/
URL:https://cirqaura.com/event/mon-royaume-pour-un-cheval/2026-05-31/1/
LOCATION:Le Plongeoir Cité du Cirque\, 6 boulevard Winston Churchill\, Le Mans\, 72100\, France
CATEGORIES:Tournées cies Rencontres pros.
ORGANIZER;CN="Cie La Bossue":MAILTO:compagnielabossue@gmail.com
END:VEVENT
BEGIN:VEVENT
DTSTART;TZID=Europe/Paris:20260531T140000
DTEND;TZID=Europe/Paris:20260531T144500
DTSTAMP:20260423T110646
CREATED:20260316T155649Z
LAST-MODIFIED:20260320T093119Z
UID:10000054-1780236000-1780238700@cirqaura.com
SUMMARY:Mon Royaume pour un cheval
[vc_column column_padding= »no-extra-padding » column_padding_tablet= »inherit » column_padding_phone= »inherit » column_padding_position= »all » flex_gap_desktop= »10px » column_element_direction_desktop= »default » column_element_spacing= »default » desktop_text_alignment= »default » tablet_text_alignment= »default » phone_text_alignment= »default »...

👉 https://cirqaura.com/event/mon-royaume-pour-un-cheval/2026-05-31/2/
URL:https://cirqaura.com/event/mon-royaume-pour-un-cheval/2026-05-31/2/
LOCATION:Le Plongeoir Cité du Cirque\, 6 boulevard Winston Churchill\, Le Mans\, 72100\, France
CATEGORIES:Tournées cies Rencontres pros.
ORGANIZER;CN="Cie La Bossue":MAILTO:compagnielabossue@gmail.com
END:VEVENT
END:VCALENDAR